DSET ^sample.nc
DTYPE netcdf
TITLE 4-D Ocean Variables: Omega
UNDEF -1.e+34
XDEF 240 linear 0.75 1.5
YDEF 134 levels -74.25 -72.75 -71.25 -69.75 -68.25 -66.75 -65.25 -63.75 -62.25 -60.75 -59.25 -57.75 -56.25 -54.75 -53.25 -51.75 -50.25 -48.75 -47.25 -45.75 -44.25 -42.75 -41.25 -39.75 -38.25 -36.75 -35.25 -33.75 -32.25 -30.75 -29.25 -27.75616 -26.28063 -24.83512 -23.43062 -22.07706 -20.78317 -19.55618 -18.40167 -17.32345 -16.32345 -15.40167 -14.55617 -13.78317 -13.07706 -12.43062 -11.83512 -11.28063 -10.75616 -10.25 -9.75 -9.25 -8.75 -8.25 -7.75 -7.25 -6.75 -6.25 -5.75 -5.25 -4.75 -4.25 -3.75 -3.25 -2.75 -2.25 -1.75 -1.25 -0.75 -0.25 0.25 0.75 1.25 1.75 2.25 2.75 3.25 3.75 4.25 4.75 5.25 5.75 6.25 6.75 7.25 7.75 8.25 8.75 9.25 9.75 10.25 10.75616 11.28063 11.83512 12.43062 13.07706 13.78317 14.55617 15.40167 16.32345 17.32345 18.40167 19.55618 20.78317 22.07706 23.43062 24.83512 26.28063 27.75616 29.25 30.75 32.25 33.75 35.25 36.75 38.25 39.75 41.25 42.75 44.25 45.75 47.25 48.75 50.25 51.75 53.25 54.75 56.25 57.75 59.25 60.75 62.25 63.75 65.25
ZDEF 25 levels 15 30 45 60 75 90 105 120 135 150.279 166.5993 184.723 204.9293 226.939 249.99 299.155 399.99 543.7236 753.1135 1083.821 1573.036 2233.821 3053.114 3993.724 4999.99
TDEF 1 linear 01dec2054 1mo
VARS 1
w 25 t,z,y,x W at T cell bottom (cm/s)
ENDVARS
